Workbook
Name Tätigkeit: [1]Tätigkeiten!$B$4:$B$10

Sheet PREUVE INDIVIDUELLE SUR 5 ANS
B1: Nom: | E1: No d‘identification ASEND:
B2: Prénom: | E2: Date de naissance:
B3: Période de certification du: | E3: au:
C4: (début de validité du certificat) | F4: (fin de validité du certificat)
B5: Méthode: | C5: ?
A7: Seulement pour Partie A positions 1 et 5:
A8: (pour toutes les autres positions du système de crédit, les justificatifs individiduels sont à fournir à l'organisme de certification:
A9: Je confirme par signature habilitée: | C9: - que les travaux définis ci-dessous ont bien été effectués par le demandeur et - que l'organisme de certification est autorisée sur sa demande à visualiser ces documents
B10: Choisir SVP | C10: ? | D10: En cas de NON: tous les justificatifs sont à fournir à l'organisme de certification (procès-verbaux,…)
B12: Supérieur ou personne habilitée à signer: | D12: Nom:
D13: Prenom:
D14: Fonction:
D15: Lieu, date:
D16: Tampon d'entreprise et signature:
A23: 1ère année de certification
A24: Position | B24: Activité | C24: niveau 2 | E24: description | F24: Preuve No. | G24: Date | H24: Points
B25: (désignations selon
B26: Directive ASEND, Annexe 1) | C26: Points attribués par activité | D26: Nombre maximum de points par année d'activité
B27: Partie A:
A28: 1 | B28: Réalisation des activités d’END: | C28: 2 / jour | D28: 25
B29: · connaissance et compréhension des
B30: spécifications du client et des normes
B31: d’inspection;
B32: · vérification des conditions opératoires ou du
B33: réglage de l’appareillage d’essai,
B34: réalisation avec succès de l’END,
B35: consignation satisfaisante
B36: des résultats;
B37: · réalisation des activités d’END en tant
B38: qu’examinateur de Niveau 3
B42: Position totale 1 | H42: =IF(SUM(H28:H41)<25,SUM(H28:H41),25) -> 0
A43: 2 | B43: Suivi (en totalité) d’une formation théorique | C43: 1 / jour | D43: 5
B44: à la méthode
B45: (La formation qui a conduit à la qualification,
B46: ne peut pas être prise en compte!)
B49: Position totale 2 | H49: =IF(SUM(H43:H48)<5,SUM(H43:H48),5) -> 0
A50: 3 | B50: Suivi (en totalité) d’une formation pratique | C50: 2 / jour | D50: 10
B51: à la méthode
B52: (L'examen de qualification qui a conduit à la
B53: qualification et à la certification dans
...

Sheet SYSTÈME DE CRÉDIT DE COLLECTE
A1: Agrégation de preuves sur 5 ans
A3: ='PREUVE INDIVIDUELLE SUR 5 ANS'!B1 -> Nom: | B3: ='PREUVE INDIVIDUELLE SUR 5 ANS'!C1 -> 0 | E3: No d'ident. ASEND: | G3: ='PREUVE INDIVIDUELLE SUR 5 ANS'!F1 -> 0
A4: ='PREUVE INDIVIDUELLE SUR 5 ANS'!B2 -> Prénom: | B4: ='PREUVE INDIVIDUELLE SUR 5 ANS'!C2 -> 0 | E4: ='PREUVE INDIVIDUELLE SUR 5 ANS'!B5 -> Méthode: | G4: ='PREUVE INDIVIDUELLE SUR 5 ANS'!C5 -> ?
A6: No de l‘activité 1) | B6: 1ère | C6: 2ème | D6: 3éme | E6: 4ème | F6: 5ème | G6: Total de | H6: Maximum
B7: année | C7: année | D7: année | E7: année | F7: année | G7: toutes les années
A8: 1 (max. 25 / année) | B8: ='PREUVE INDIVIDUELLE SUR 5 ANS'!H42 -> 0 | C8: ='PREUVE INDIVIDUELLE SUR 5 ANS'!H141 -> 0 | D8: ='PREUVE INDIVIDUELLE SUR 5 ANS'!H240 -> 0 | E8: ='PREUVE INDIVIDUELLE SUR 5 ANS'!H339 -> 0 | F8: ='PREUVE INDIVIDUELLE SUR 5 ANS'!H438 -> 0 | G8: =IF(SUM(B8:F8)<95,SUM(B8:F8),95) -> 0 | H8: 95
A9: 2 (max. 5 / année) | B9: ='PREUVE INDIVIDUELLE SUR 5 ANS'!H49 -> 0 | C9: ='PREUVE INDIVIDUELLE SUR 5 ANS'!H148 -> 0 | D9: ='PREUVE INDIVIDUELLE SUR 5 ANS'!H247 -> 0 | E9: ='PREUVE INDIVIDUELLE SUR 5 ANS'!H346 -> 0 | F9: ='PREUVE INDIVIDUELLE SUR 5 ANS'!H445 -> 0 | G9: =IF(SUM(B9:F9)<15,SUM(B9:F9),15) -> 0 | H9: 15
A10: 3 (max.10 / année) | B10: ='PREUVE INDIVIDUELLE SUR 5 ANS'!H60 -> 0 | C10: ='PREUVE INDIVIDUELLE SUR 5 ANS'!H159 -> 0 | D10: ='PREUVE INDIVIDUELLE SUR 5 ANS'!H258 -> 0 | E10: ='PREUVE INDIVIDUELLE SUR 5 ANS'!H357 -> 0 | F10: ='PREUVE INDIVIDUELLE SUR 5 ANS'!H456 -> 0 | G10: =IF(SUM(B10:F10)<25,SUM(B10:F10),25) -> 0 | H10: 25
A11: 4 (max. 15 / année) | B11: ='PREUVE INDIVIDUELLE SUR 5 ANS'!H76 -> 0 | C11: ='PREUVE INDIVIDUELLE SUR 5 ANS'!H175 -> 0 | D11: ='PREUVE INDIVIDUELLE SUR 5 ANS'!H274 -> 0 | E11: ='PREUVE INDIVIDUELLE SUR 5 ANS'!H373 -> 0 | F11: ='PREUVE INDIVIDUELLE SUR 5 ANS'!H472 -> 0 | G11: =IF(SUM(B11:F11)<75,SUM(B11:F11),75) -> 0 | H11: 75
A12: 5 (max.15 / année) | B12: ='PREUVE INDIVIDUELLE SUR 5 ANS'!H92 -> 0 | C12: ='PREUVE INDIVIDUELLE SUR 5 ANS'!H191 -> 0 | D12: ='PREUVE INDIVIDUELLE SUR 5 ANS'!H290 -> 0 | E12: ='PREUVE INDIVIDUELLE SUR 5 ANS'!H389 -> 0 | F12: ='PREUVE INDIVIDUELLE SUR 5 ANS'!H488 -> 0 | G12: =IF(SUM(B12:F12)<60,SUM(B12:F12),60) -> 0 | H12: 60
A13: Partie A: Somme 1 - 5 | G13: =SUM(G8:G12) -> 0 | H13: min. 50
A14: 6 (max. 2 / année) | B14: ='PREUVE INDIVIDUELLE SUR 5 ANS'!H97 -> 0 | C14: ='PREUVE INDIVIDUELLE SUR 5 ANS'!H196 -> 0 | D14: ='PREUVE INDIVIDUELLE SUR 5 ANS'!H295 -> 0 | E14: ='PREUVE INDIVIDUELLE SUR 5 ANS'!H394 -> 0 | F14: ='PREUVE INDIVIDUELLE SUR 5 ANS'!H493 -> 0 | G14: =IF(SUM(B14:F14)<10,SUM(B14:F14),10) -> 0 | H14: 10
A15: 7 (max. 3 / année) | B15: ='PREUVE INDIVIDUELLE SUR 5 ANS'!H102 -> 0 | C15: ='PREUVE INDIVIDUELLE SUR 5 ANS'!H201 -> 0 | D15: ='PREUVE INDIVIDUELLE SUR 5 ANS'!H300 -> 0 | E15: ='PREUVE INDIVIDUELLE SUR 5 ANS'!H399 -> 0 | F15: ='PREUVE INDIVIDUELLE SUR 5 ANS'!H498 -> 0 | G15: =IF(SUM(B15:F15)<15,SUM(B15:F15),15) -> 0 | H15: 15
A16: 8 (max. 2 / année) | B16: ='PREUVE INDIVIDUELLE SUR 5 ANS'!H105 -> 0 | C16: ='PREUVE INDIVIDUELLE SUR 5 ANS'!H204 -> 0 | D16: ='PREUVE INDIVIDUELLE SUR 5 ANS'!H303 -> 0 | E16: ='PREUVE INDIVIDUELLE SUR 5 ANS'!H402 -> 0 | F16: ='PREUVE INDIVIDUELLE SUR 5 ANS'!H501 -> 0 | G16: =IF(SUM(B16:F16)<5,SUM(B16:F16),5) -> 0 | H16: 5
A17: 9 (max.10 / année) | B17: ='PREUVE INDIVIDUELLE SUR 5 ANS'!H111 -> 0 | C17: ='PREUVE INDIVIDUELLE SUR 5 ANS'!H210 -> 0 | D17: ='PREUVE INDIVIDUELLE SUR 5 ANS'!H309 -> 0 | E17: ='PREUVE INDIVIDUELLE SUR 5 ANS'!H408 -> 0 | F17: ='PREUVE INDIVIDUELLE SUR 5 ANS'!H507 -> 0 | G17: =IF(SUM(B17:F17)<30,SUM(B17:F17),30) -> 0 | H17: 30
A18: 10 (max. 3 / année) | B18: ='PREUVE INDIVIDUELLE SUR 5 ANS'!H116 -> 0 | C18: ='PREUVE INDIVIDUELLE SUR 5 ANS'!H215 -> 0 | D18: ='PREUVE INDIVIDUELLE SUR 5 ANS'!H314 -> 0 | E18: ='PREUVE INDIVIDUELLE SUR 5 ANS'!H413 -> 0 | F18: ='PREUVE INDIVIDUELLE SUR 5 ANS'!H512 -> 0 | G18: =IF(SUM(B18:F18)<15,SUM(B18:F18),15) -> 0 | H18: 15
A19: 11 (max.10 / année) | B19: ='PREUVE INDIVIDUELLE SUR 5 ANS'!H122 -> 0 | C19: ='PREUVE INDIVIDUELLE SUR 5 ANS'!H221 -> 0 | D19: ='PREUVE INDIVIDUELLE SUR 5 ANS'!H320 -> 0 | E19: ='PREUVE INDIVIDUELLE SUR 5 ANS'!H419 -> 0 | F19: ='PREUVE INDIVIDUELLE SUR 5 ANS'!H518 -> 0 | G19: =IF(SUM(B19:F19)<30,SUM(B19:F19),30) -> 0 | H19: 30
A20: Partie B: Somme 6 - 11 | G20: =IF(SUM(G14:G19)<50,SUM(G14:G19),50) -> 0 | H20: max. 50
A21: Somme 1 - 11 | G21: =G13+G20 -> 0 | H21: min.100
A23: 1) Désignations selon les directives ASEND, supplément 1 : Système de crédit structuré pour le renouvellement des niveaux 1, 2 et 3 et la recertification de niveau 3.
A25: L'exactitude de toutes les entrées est confirmée :
B27: Demandeur | E27: Supérieur | G27: ou referee (selon la directive ASEND, point 1.6)
A29: Lieu / Date
A30: Signature
B32: Numéro de certificat END du referee:
A33: A remplir par le responsable de la certification
A34: Décision | B34: Les conditions de la certification sont: | G34: remplies | H34: non remplies
A35: Lieu / Date
A36: Signature

Sheet Tabelle1
B1: ? | D1: ?
B2: Ja | D2: ET 2
B3: Nein | D3: MT 2
D4: PT 2
D5: RT-F 2
D6: RT-D 2
D7: RT-FD 2
D8: UT 2
D9: VT 2
D10: TT 2
D11: LT 2
