Workbook
Name Tätigkeit: [1]Tätigkeiten!$B$4:$B$10

Sheet Giustificativi su 5 anni
B1: Nome: | E1: Numero di registro ASPND.:
B2: Cognome: | E2: Data di nascita:
B3: Periodo di validità certificato da: | E3: a:
C4: (inizio validità certificato) | F4: (fine validità certificato)
B5: Metodo: | C5: ?
A7: Solo per parte A, posizioni 1 e 5:
A8: (per tutte le altre posizioni del sistema a crediti, i singoli giustificativi devono essere fatti pervenire all'ente di certificazione!):
A9: Con la firma valida legalmente confermo che: | C9: - i lavori indicati di seguito sono effettivamente stati svolti dalla persona che presenta la richiesta e che - l'ente di certificazione, in caso di necessità, può prendere visione dei documenti citati
B10: Selezionare la risposta | C10: ? | D10: Se "No": Tutti i giustificativi (protocolli, ecc.) devono essere fatti pervenire all'ente certificatore.
B12: Superiore e/o persona autorizzata a firmare: | D12: Cognome:
D13: Nome:
D14: Ruolo:
D15: Luogo, Data:
D16: Timbro della ditta e firma:
A23: 1. Anno di certificazione
A24: Posizione | B24: Attività | C24: Livello 1 | E24: Descirizione | F24: Allegato N°. | G24: Data | H24: Punti
B25: (denominazioni secondo
B26: SGZP-Richtlinie, Allegato 1) | C26: Punti per ogni attività | D26: Punti mas-simi all’anno per ogni attività
B27: Parte A:
A28: 1 | B28: Svolgimento di attività CND: : | C28: 2 / giorno | D28: 25
B29: · Conoscenza e comprensione
B30: delle specifiche dei clienti e
B31: delle norme
B32: · Verifica delle condizioni di controllo o
B33: impostazione delle attrezzature di
B34: controllo,
B35: svolgimento di CND
B36: redazione di protocolli
B37: · Attività quale livello 3 nella funzione
B38: di incaricato per esami
B42: Somma Posizione 1 | H42: =IF(SUM(H28:H41)<25,SUM(H28:H41),25) -> 0
A43: 2 | B43: Partecipazione ad una formazione teorica | C43: 1 / giorno | D43: 5
B44: nel metodo considerato
B45: (La formazione che ha portato all
B46: qualificazione del metodo non può essere
B47: considerata!)
B49: Somma Posizione 2 | H49: =IF(SUM(H43:H48)<5,SUM(H43:H48),5) -> 0
A50: 3 | B50: Partecipazione ad una formazione pratica | C50: 2 / giorno | D50: 10
B51: nel metodo considerato
B52: (L’esame di qualificazione, che ha portato
...

Sheet Riassunto sistema a crediti
A1: Trasferimento da giustificativi su 5 anni
A3: ='Giustificativi su 5 anni'!B1 -> Nome: | B3: ='Giustificativi su 5 anni'!C1 -> 0 | D3: ='Giustificativi su 5 anni'!E1 -> Numero di registro ASPND.: | G3: ='Giustificativi su 5 anni'!F1 -> 0
A4: ='Giustificativi su 5 anni'!B2 -> Cognome: | B4: ='Giustificativi su 5 anni'!C2 -> 0 | D4: ='Giustificativi su 5 anni'!B5 -> Metodo: | G4: ='Giustificativi su 5 anni'!C5 -> ?
A6: Numero dell`attività 1) | B6: 1 | C6: 2 | D6: 3 | E6: 4 | F6: 5 | G6: Somma su | H6: Massimo
B7: Anno | C7: Anno | D7: Anno | E7: Anno | F7: Anno | G7: tutti gli anni
A8: 1 (max.25 all’anno) | B8: ='Giustificativi su 5 anni'!H42 -> 0 | C8: ='Giustificativi su 5 anni'!H108 -> 0 | D8: ='Giustificativi su 5 anni'!H174 -> 0 | E8: ='Giustificativi su 5 anni'!H240 -> 0 | F8: ='Giustificativi su 5 anni'!H306 -> 0 | G8: =IF(SUM(B8:F8)<95,SUM(B8:F8),95) -> 0 | H8: 95
A9: 2 (max. 5 all’anno) | B9: ='Giustificativi su 5 anni'!H49 -> 0 | C9: ='Giustificativi su 5 anni'!H115 -> 0 | D9: ='Giustificativi su 5 anni'!H181 -> 0 | E9: ='Giustificativi su 5 anni'!H247 -> 0 | F9: ='Giustificativi su 5 anni'!H313 -> 0 | G9: =IF(SUM(B9:F9)<15,SUM(B9:F9),15) -> 0 | H9: 15
A10: 3 (max.10 all’anno) | B10: ='Giustificativi su 5 anni'!H60 -> 0 | C10: ='Giustificativi su 5 anni'!H126 -> 0 | D10: ='Giustificativi su 5 anni'!H192 -> 0 | E10: ='Giustificativi su 5 anni'!H258 -> 0 | F10: ='Giustificativi su 5 anni'!H324 -> 0 | G10: =IF(SUM(B10:F10)<25,SUM(B10:F10),25) -> 0 | H10: 25
A11: 5 (max.15 all’anno) | B11: ='Giustificativi su 5 anni'!H76 -> 0 | C11: ='Giustificativi su 5 anni'!H142 -> 0 | D11: ='Giustificativi su 5 anni'!H208 -> 0 | E11: ='Giustificativi su 5 anni'!H274 -> 0 | F11: ='Giustificativi su 5 anni'!H340 -> 0 | G11: =IF(SUM(B11:F11)<60,SUM(B11:F11),60) -> 0 | H11: 60
A12: Parte A: Somma 1 - 5 | G12: =SUM(G8:G11) -> 0 | H12: min. 75
A13: 6 (max. 2 all’anno) | B13: ='Giustificativi su 5 anni'!H81 -> 0 | C13: ='Giustificativi su 5 anni'!H147 -> 0 | D13: ='Giustificativi su 5 anni'!H213 -> 0 | E13: ='Giustificativi su 5 anni'!H279 -> 0 | F13: ='Giustificativi su 5 anni'!H345 -> 0 | G13: =IF(SUM(B13:F13)<10,SUM(B13:F13),10) -> 0 | H13: 10
A14: 7 (max. 3 all’anno) | B14: ='Giustificativi su 5 anni'!H86 -> 0 | C14: ='Giustificativi su 5 anni'!H152 -> 0 | D14: ='Giustificativi su 5 anni'!H218 -> 0 | E14: ='Giustificativi su 5 anni'!H284 -> 0 | F14: ='Giustificativi su 5 anni'!H350 -> 0 | G14: =IF(SUM(B14:F14)<15,SUM(B14:F14),15) -> 0 | H14: 15
A15: 8 (max. 2 all’anno) | B15: ='Giustificativi su 5 anni'!H89 -> 0 | C15: ='Giustificativi su 5 anni'!H155 -> 0 | D15: ='Giustificativi su 5 anni'!H221 -> 0 | E15: ='Giustificativi su 5 anni'!H287 -> 0 | F15: ='Giustificativi su 5 anni'!H353 -> 0 | G15: =IF(SUM(B15:F15)<5,SUM(B15:F15),5) -> 0 | H15: 5
A16: Parte B: Somma 6 - 8 | G16: =IF(SUM(G13:G15)<25,SUM(G13:G15),25) -> 0 | H16: max. 25
A17: Somma Parte A + Parte B | G17: =G12+G16 -> 0 | H17: min.100
A19: 1) Denominazione secondo le direttive dell‘ASPND, Allegato 1: sistema a crediti strutturato per rinnovo livello 1, 2 e 3 e ricertificazione livello 3.
A21: Conferma dell’esattezza delle registrazioni:
B23: Richiedente | E23: Superiore | G23: o Referee (secondo SGZP-Richtlinie, capitolo 1.6)
A25: Luogo / Data
A26: Firme
B28: N° di certificato CND del Referee:
A29: Compilare dal delegato alla certificazione
A30: Decisione | B30: Le condizioni del sistema a crediti sono: | G30: soddisfatte | H30: non soddisfatte
A31: Luogo / Data
A32: Firme

Sheet Tabelle1
B1: ? | D1: ?
B2: Sì | D2: ET 1
B3: No | D3: MT 1
D4: PT 1
D5: RT-F 1
D6: RT-D 1
D7: RT-FD 1
D8: UT 1
D9: TT 1
D10: LT 1
